Package: COTAN Version: 2.9.7 Command: rm -rf COTAN.buildbin-libdir && mkdir COTAN.buildbin-libdir && /Users/biocbuild/BBS/utils/build-universal.sh COTAN_2.9.7.tar.gz /Library/Frameworks/R.framework/Resources/bin/R COTAN.buildbin-libdir StartedAt: 2025-10-24 01:29:02 -0400 (Fri, 24 Oct 2025) EndedAt: 2025-10-24 01:30:12 -0400 (Fri, 24 Oct 2025) EllapsedTime: 70.2 seconds RetCode: 0 Status: OK PackageFile: COTAN_2.9.7.tgz PackageFileSize: 4.626 MiB