Package: COTAN Version: 2.9.6 Command: /Library/Frameworks/R.framework/Resources/bin/R CMD build --keep-empty-dirs --no-resave-data COTAN StartedAt: 2025-10-03 16:01:01 -0400 (Fri, 03 Oct 2025) EndedAt: 2025-10-03 16:06:04 -0400 (Fri, 03 Oct 2025) EllapsedTime: 303.3 seconds RetCode: 0 Status: OK PackageFile: COTAN_2.9.6.tar.gz PackageFileSize: 4.013 MiB