Package: COTAN Version: 2.9.6 Command: rm -rf COTAN.buildbin-libdir && mkdir COTAN.buildbin-libdir && /Users/biocbuild/BBS/utils/build-universal.sh COTAN_2.9.6.tar.gz /Library/Frameworks/R.framework/Resources/bin/R COTAN.buildbin-libdir StartedAt: 2025-10-03 22:35:29 -0400 (Fri, 03 Oct 2025) EndedAt: 2025-10-03 22:35:49 -0400 (Fri, 03 Oct 2025) EllapsedTime: 20.4 seconds RetCode: 0 Status: OK PackageFile: COTAN_2.9.6.tgz PackageFileSize: 4.582 MiB