Package: COTAN Version: 2.11.0 Maintainer: Galfrè Silvia Giulia MaintainerEmail: silvia.galfre at di.unipi.it git_url: https://git.bioconductor.org/packages/COTAN git_branch: devel git_last_commit: cf71097 git_last_commit_date: 2025-10-29 11:14:37 -0500 (Wed, 29 Oct 2025)