Package: COSNet Version: 1.45.0 Command: /home/biocbuild/bbs-3.23-bioc/R/bin/R CMD INSTALL COSNet StartedAt: 2025-10-31 15:15:23 -0400 (Fri, 31 Oct 2025) EndedAt: 2025-10-31 15:15:45 -0400 (Fri, 31 Oct 2025) EllapsedTime: 22.3 seconds RetCode: 0 Status: OK