Package: COSNet Version: 1.45.0 Command: /home/biocbuild/bbs-3.23-bioc/R/bin/R CMD check --install=check:COSNet.install-out.txt --library=/home/biocbuild/bbs-3.23-bioc/R/site-library --timings COSNet_1.45.0.tar.gz StartedAt: 2025-11-02 22:07:40 -0500 (Sun, 02 Nov 2025) EndedAt: 2025-11-02 22:12:35 -0500 (Sun, 02 Nov 2025) EllapsedTime: 294.4 seconds RetCode: 0 Status: WARNINGS CheckDir: COSNet.Rcheck Warnings: 1