Package: COSNet Version: 1.45.0 Command: /home/biocbuild/bbs-3.23-bioc/R/bin/R CMD build --keep-empty-dirs --no-resave-data COSNet StartedAt: 2025-10-31 17:12:51 -0400 (Fri, 31 Oct 2025) EndedAt: 2025-10-31 17:17:11 -0400 (Fri, 31 Oct 2025) EllapsedTime: 260.2 seconds RetCode: 0 Status: OK PackageFile: COSNet_1.45.0.tar.gz PackageFileSize: 520 KiB