Package: CONSTANd Version: 1.17.0 Maintainer: Dirk Valkenborg MaintainerEmail: dirk.valkenborg at uhasselt.be git_url: https://git.bioconductor.org/packages/CONSTANd git_branch: devel git_last_commit: 4f7af02 git_last_commit_date: 2025-04-15 12:17:25 -0400 (Tue, 15 Apr 2025)