Package: CONFESS Version: 1.37.0 Command: /home/biocbuild/bbs-3.22-bioc/R/bin/R CMD check --install=check:CONFESS.install-out.txt --library=/home/biocbuild/bbs-3.22-bioc/R/site-library --timings CONFESS_1.37.0.tar.gz StartedAt: 2025-10-24 22:28:12 -0400 (Fri, 24 Oct 2025) EndedAt: 2025-10-24 22:37:08 -0400 (Fri, 24 Oct 2025) EllapsedTime: 535.6 seconds RetCode: 0 Status: WARNINGS CheckDir: CONFESS.Rcheck Warnings: 1