Package: CONFESS Version: 1.39.0 Command: /home/biocbuild/bbs-3.23-bioc/R/bin/R CMD build --keep-empty-dirs --no-resave-data CONFESS StartedAt: 2025-11-05 17:01:12 -0500 (Wed, 05 Nov 2025) EndedAt: 2025-11-05 17:03:57 -0500 (Wed, 05 Nov 2025) EllapsedTime: 164.2 seconds RetCode: 0 Status: OK PackageFile: CONFESS_1.39.0.tar.gz PackageFileSize: 3.587 MiB