Package: CONFESS Version: 1.37.0 Command: /Library/Frameworks/R.framework/Resources/bin/R CMD INSTALL CONFESS StartedAt: 2025-09-30 15:46:40 -0400 (Tue, 30 Sep 2025) EndedAt: 2025-09-30 15:48:13 -0400 (Tue, 30 Sep 2025) EllapsedTime: 92.7 seconds RetCode: 0 Status: OK