Package: CONFESS Version: 1.37.0 Command: /Library/Frameworks/R.framework/Resources/bin/R CMD build --keep-empty-dirs --no-resave-data CONFESS StartedAt: 2025-09-30 16:29:51 -0400 (Tue, 30 Sep 2025) EndedAt: 2025-09-30 16:34:04 -0400 (Tue, 30 Sep 2025) EllapsedTime: 253.2 seconds RetCode: 0 Status: OK PackageFile: CONFESS_1.37.0.tar.gz PackageFileSize: 3.587 MiB