Package: CONFESS Version: 1.37.0 Command: rm -rf CONFESS.buildbin-libdir && mkdir CONFESS.buildbin-libdir && /Users/biocbuild/BBS/utils/build-universal.sh CONFESS_1.37.0.tar.gz /Library/Frameworks/R.framework/Resources/bin/R CONFESS.buildbin-libdir StartedAt: 2025-10-01 01:36:32 -0400 (Wed, 01 Oct 2025) EndedAt: 2025-10-01 01:38:14 -0400 (Wed, 01 Oct 2025) EllapsedTime: 101.9 seconds RetCode: 0 Status: OK PackageFile: CONFESS_1.37.0.tgz PackageFileSize: 3.103 MiB