Package: CODEX Version: 1.43.0 Command: /home/biocbuild/bbs-3.23-bioc/R/bin/R CMD INSTALL CODEX StartedAt: 2025-11-05 15:41:26 -0500 (Wed, 05 Nov 2025) EndedAt: 2025-11-05 15:41:57 -0500 (Wed, 05 Nov 2025) EllapsedTime: 30.3 seconds RetCode: 0 Status: OK