Package: CODEX Version: 1.43.0 Command: /home/biocbuild/bbs-3.23-bioc/R/bin/R CMD build --keep-empty-dirs --no-resave-data CODEX StartedAt: 2025-11-05 16:58:44 -0500 (Wed, 05 Nov 2025) EndedAt: 2025-11-05 17:00:32 -0500 (Wed, 05 Nov 2025) EllapsedTime: 108.1 seconds RetCode: 0 Status: OK PackageFile: CODEX_1.43.0.tar.gz PackageFileSize: 915.2 KiB