Package: COCOA Version: 2.23.1 Command: /home/biocbuild/R/R/bin/R CMD INSTALL COCOA StartedAt: 2025-10-23 20:55:35 -0000 (Thu, 23 Oct 2025) EndedAt: 2025-10-23 20:56:32 -0000 (Thu, 23 Oct 2025) EllapsedTime: 57.2 seconds RetCode: 0 Status: OK