Package: COCOA Version: 2.23.1 Command: /home/biocbuild/bbs-3.22-bioc/R/bin/R CMD check --install=check:COCOA.install-out.txt --library=/home/biocbuild/bbs-3.22-bioc/R/site-library --timings COCOA_2.23.1.tar.gz StartedAt: 2025-10-15 22:56:05 -0400 (Wed, 15 Oct 2025) EndedAt: 2025-10-15 23:02:44 -0400 (Wed, 15 Oct 2025) EllapsedTime: 398.4 seconds RetCode: 0 Status: OK CheckDir: COCOA.Rcheck Warnings: 0