Package: COCOA Version: 2.25.0 Command: /home/biocbuild/bbs-3.23-bioc/R/bin/R CMD INSTALL COCOA StartedAt: 2025-11-06 15:36:44 -0500 (Thu, 06 Nov 2025) EndedAt: 2025-11-06 15:37:31 -0500 (Thu, 06 Nov 2025) EllapsedTime: 47.6 seconds RetCode: 0 Status: OK