Package: COCOA Version: 2.25.0 Command: /home/biocbuild/bbs-3.23-bioc/R/bin/R CMD build --keep-empty-dirs --no-resave-data COCOA StartedAt: 2025-11-07 16:51:50 -0500 (Fri, 07 Nov 2025) EndedAt: 2025-11-07 16:53:39 -0500 (Fri, 07 Nov 2025) EllapsedTime: 109.1 seconds RetCode: 0 Status: OK PackageFile: COCOA_2.25.0.tar.gz PackageFileSize: 3.795 MiB