Package: CNVrd2 Version: 1.47.0 Command: /home/biocbuild/R/R/bin/R CMD INSTALL CNVrd2 StartedAt: 2025-10-09 21:52:01 -0000 (Thu, 09 Oct 2025) EndedAt: 2025-10-09 21:52:02 -0000 (Thu, 09 Oct 2025) EllapsedTime: 1.0 seconds RetCode: 1 Status: ERROR