Package: CNVrd2 Version: 1.47.0 Command: /home/biocbuild/bbs-3.22-bioc/R/bin/R CMD check --install=check:CNVrd2.install-out.txt --library=/home/biocbuild/bbs-3.22-bioc/R/site-library --timings CNVrd2_1.47.0.tar.gz StartedAt: 2025-10-13 22:33:27 -0400 (Mon, 13 Oct 2025) EndedAt: 2025-10-13 22:37:07 -0400 (Mon, 13 Oct 2025) EllapsedTime: 220.3 seconds RetCode: 0 Status: OK CheckDir: CNVrd2.Rcheck Warnings: 0