Package: CNVrd2 Version: 1.49.0 Command: /home/biocbuild/bbs-3.23-bioc/R/bin/R CMD INSTALL CNVrd2 StartedAt: 2025-11-05 15:52:17 -0500 (Wed, 05 Nov 2025) EndedAt: 2025-11-05 15:52:57 -0500 (Wed, 05 Nov 2025) EllapsedTime: 40.3 seconds RetCode: 0 Status: OK