Package: CNVrd2 Version: 1.49.0 Command: /home/biocbuild/bbs-3.23-bioc/R/bin/R CMD check --install=check:CNVrd2.install-out.txt --library=/home/biocbuild/bbs-3.23-bioc/R/site-library --timings CNVrd2_1.49.0.tar.gz StartedAt: 2025-11-20 22:15:20 -0500 (Thu, 20 Nov 2025) EndedAt: 2025-11-20 22:18:38 -0500 (Thu, 20 Nov 2025) EllapsedTime: 198.3 seconds RetCode: 0 Status: OK CheckDir: CNVrd2.Rcheck Warnings: 0