Package: CNVrd2 Version: 1.49.0 Command: /home/biocbuild/bbs-3.23-bioc/R/bin/R CMD build --keep-empty-dirs --no-resave-data CNVrd2 StartedAt: 2025-11-05 16:58:12 -0500 (Wed, 05 Nov 2025) EndedAt: 2025-11-05 16:59:24 -0500 (Wed, 05 Nov 2025) EllapsedTime: 72.1 seconds RetCode: 0 Status: OK PackageFile: CNVrd2_1.49.0.tar.gz PackageFileSize: 2.825 MiB