Package: CNViz Version: 1.19.0 Command: /home/biocbuild/bbs-3.23-bioc/R/bin/R CMD INSTALL CNViz StartedAt: 2025-11-05 15:53:47 -0500 (Wed, 05 Nov 2025) EndedAt: 2025-11-05 15:54:35 -0500 (Wed, 05 Nov 2025) EllapsedTime: 47.6 seconds RetCode: 0 Status: OK