Package: CNViz Version: 1.19.0 Command: /home/biocbuild/bbs-3.23-bioc/R/bin/R CMD build --keep-empty-dirs --no-resave-data CNViz StartedAt: 2025-11-05 16:57:55 -0500 (Wed, 05 Nov 2025) EndedAt: 2025-11-05 16:58:54 -0500 (Wed, 05 Nov 2025) EllapsedTime: 59.1 seconds RetCode: 0 Status: OK PackageFile: CNViz_1.19.0.tar.gz PackageFileSize: 115.6 KiB