Package: CNViz Version: 1.17.0 Command: /Library/Frameworks/R.framework/Resources/bin/R CMD INSTALL CNViz StartedAt: 2025-10-19 15:43:17 -0400 (Sun, 19 Oct 2025) EndedAt: 2025-10-19 15:44:21 -0400 (Sun, 19 Oct 2025) EllapsedTime: 64.6 seconds RetCode: 0 Status: OK