Package: CNViz Version: 1.19.0 Maintainer: Rebecca Greenblatt MaintainerEmail: rebecca.greenblatt at gmail.com git_url: https://git.bioconductor.org/packages/CNViz git_branch: devel git_last_commit: d91329e git_last_commit_date: 2025-10-29 11:08:02 -0400 (Wed, 29 Oct 2025)