Package: CNVPanelizer Version: 1.43.0 Command: /home/biocbuild/bbs-3.23-bioc/R/bin/R CMD build --keep-empty-dirs --no-resave-data CNVPanelizer StartedAt: 2025-11-20 16:53:48 -0500 (Thu, 20 Nov 2025) EndedAt: 2025-11-20 16:55:06 -0500 (Thu, 20 Nov 2025) EllapsedTime: 78.1 seconds RetCode: 0 Status: OK PackageFile: CNVPanelizer_1.43.0.tar.gz PackageFileSize: 363.4 KiB