Package: CNVPanelizer Version: 1.43.0 Command: /Library/Frameworks/R.framework/Resources/bin/R CMD INSTALL CNVPanelizer StartedAt: 2025-11-21 15:23:18 -0500 (Fri, 21 Nov 2025) EndedAt: 2025-11-21 15:23:49 -0500 (Fri, 21 Nov 2025) EllapsedTime: 31.1 seconds RetCode: 0 Status: OK