Package: CNVPanelizer Version: 1.43.0 Command: /Library/Frameworks/R.framework/Resources/bin/R CMD build --keep-empty-dirs --no-resave-data CNVPanelizer StartedAt: 2025-11-20 16:32:31 -0500 (Thu, 20 Nov 2025) EndedAt: 2025-11-20 16:34:02 -0500 (Thu, 20 Nov 2025) EllapsedTime: 91.6 seconds RetCode: 0 Status: OK PackageFile: CNVPanelizer_1.43.0.tar.gz PackageFileSize: 363 KiB