Package: CNVPanelizer Version: 1.41.0 Command: /Library/Frameworks/R.framework/Resources/bin/R CMD INSTALL CNVPanelizer StartedAt: 2025-10-20 15:10:49 -0400 (Mon, 20 Oct 2025) EndedAt: 2025-10-20 15:10:58 -0400 (Mon, 20 Oct 2025) EllapsedTime: 8.4 seconds RetCode: 0 Status: OK