Package: CNVMetrics Version: 1.13.0 Command: /home/biocbuild/R/R/bin/R CMD INSTALL CNVMetrics StartedAt: 2025-10-13 21:47:49 -0000 (Mon, 13 Oct 2025) EndedAt: 2025-10-13 21:48:03 -0000 (Mon, 13 Oct 2025) EllapsedTime: 13.6 seconds RetCode: 0 Status: OK