Package: CNVMetrics Version: 1.13.0 Command: /home/biocbuild/R/R/bin/R CMD build --keep-empty-dirs --no-resave-data CNVMetrics StartedAt: 2025-10-13 23:17:20 -0000 (Mon, 13 Oct 2025) EndedAt: 2025-10-13 23:18:18 -0000 (Mon, 13 Oct 2025) EllapsedTime: 58.0 seconds RetCode: 0 Status: OK PackageFile: CNVMetrics_1.13.0.tar.gz PackageFileSize: 4.488 MiB