Package: CNVMetrics Version: 1.13.0 Command: F:\biocbuild\bbs-3.22-bioc\R\bin\R.exe CMD INSTALL CNVMetrics StartedAt: 2025-08-14 17:02:31 -0400 (Thu, 14 Aug 2025) EndedAt: 2025-08-14 17:02:54 -0400 (Thu, 14 Aug 2025) EllapsedTime: 23.2 seconds RetCode: 0 Status: OK