Package: CNVMetrics Version: 1.13.0 Command: chmod a+r CNVMetrics -R && F:\biocbuild\bbs-3.22-bioc\R\bin\R.exe CMD build --keep-empty-dirs --no-resave-data CNVMetrics StartedAt: 2025-08-14 19:13:41 -0400 (Thu, 14 Aug 2025) EndedAt: 2025-08-14 19:14:45 -0400 (Thu, 14 Aug 2025) EllapsedTime: 63.9 seconds RetCode: 0 Status: OK PackageFile: CNVMetrics_1.13.0.tar.gz PackageFileSize: 4.499 MiB