Package: CNVMetrics Version: 1.13.0 Command: /home/biocbuild/bbs-3.22-bioc/R/bin/R CMD check --install=check:CNVMetrics.install-out.txt --library=/home/biocbuild/bbs-3.22-bioc/R/site-library --timings CNVMetrics_1.13.0.tar.gz StartedAt: 2025-10-05 22:31:31 -0400 (Sun, 05 Oct 2025) EndedAt: 2025-10-05 22:33:55 -0400 (Sun, 05 Oct 2025) EllapsedTime: 144.2 seconds RetCode: 0 Status: OK CheckDir: CNVMetrics.Rcheck Warnings: 0