Package: CNVMetrics Version: 1.15.1 Command: /home/biocbuild/bbs-3.23-bioc/R/bin/R CMD INSTALL CNVMetrics StartedAt: 2025-11-07 15:58:17 -0500 (Fri, 07 Nov 2025) EndedAt: 2025-11-07 15:58:27 -0500 (Fri, 07 Nov 2025) EllapsedTime: 10.2 seconds RetCode: 0 Status: OK