Package: CNVMetrics Version: 1.15.1 Command: /home/biocbuild/bbs-3.23-bioc/R/bin/R CMD check --install=check:CNVMetrics.install-out.txt --library=/home/biocbuild/bbs-3.23-bioc/R/site-library --timings CNVMetrics_1.15.1.tar.gz StartedAt: 2025-11-07 22:06:17 -0500 (Fri, 07 Nov 2025) EndedAt: 2025-11-07 22:08:14 -0500 (Fri, 07 Nov 2025) EllapsedTime: 117.2 seconds RetCode: 1 Status: ERROR CheckDir: CNVMetrics.Rcheck Warnings: NA