Package: CNVMetrics Version: 1.15.1 Command: /home/biocbuild/bbs-3.23-bioc/R/bin/R CMD build --keep-empty-dirs --no-resave-data CNVMetrics StartedAt: 2025-11-07 16:51:30 -0500 (Fri, 07 Nov 2025) EndedAt: 2025-11-07 16:52:08 -0500 (Fri, 07 Nov 2025) EllapsedTime: 38.0 seconds RetCode: 0 Status: OK PackageFile: CNVMetrics_1.15.1.tar.gz PackageFileSize: 4.689 MiB