Package: CNTools Version: 1.65.0 Command: /home/biocbuild/bbs-3.22-bioc/R/bin/R CMD check --install=check:CNTools.install-out.txt --library=/home/biocbuild/bbs-3.22-bioc/R/site-library --timings CNTools_1.65.0.tar.gz StartedAt: 2025-10-24 22:21:00 -0400 (Fri, 24 Oct 2025) EndedAt: 2025-10-24 22:23:08 -0400 (Fri, 24 Oct 2025) EllapsedTime: 128.1 seconds RetCode: 0 Status: OK CheckDir: CNTools.Rcheck Warnings: 0