Package: CNTools Version: 1.67.0 Command: /home/biocbuild/bbs-3.23-bioc/R/bin/R CMD INSTALL CNTools StartedAt: 2025-11-02 15:35:06 -0500 (Sun, 02 Nov 2025) EndedAt: 2025-11-02 15:35:25 -0500 (Sun, 02 Nov 2025) EllapsedTime: 18.6 seconds RetCode: 0 Status: OK