Package: CNTools Version: 1.67.0 Command: /home/biocbuild/bbs-3.23-bioc/R/bin/R CMD build --keep-empty-dirs --no-resave-data CNTools StartedAt: 2025-11-03 16:50:05 -0500 (Mon, 03 Nov 2025) EndedAt: 2025-11-03 16:50:31 -0500 (Mon, 03 Nov 2025) EllapsedTime: 26.0 seconds RetCode: 0 Status: OK PackageFile: CNTools_1.67.0.tar.gz PackageFileSize: 960 KiB