Package: CNTools Version: 1.65.0 Command: /Library/Frameworks/R.framework/Resources/bin/R CMD INSTALL CNTools StartedAt: 2025-10-07 15:25:55 -0400 (Tue, 07 Oct 2025) EndedAt: 2025-10-07 15:26:23 -0400 (Tue, 07 Oct 2025) EllapsedTime: 27.6 seconds RetCode: 0 Status: OK