Package: CNTools Version: 1.65.0 Command: /Library/Frameworks/R.framework/Resources/bin/R CMD build --keep-empty-dirs --no-resave-data CNTools StartedAt: 2025-10-07 16:29:33 -0400 (Tue, 07 Oct 2025) EndedAt: 2025-10-07 16:30:11 -0400 (Tue, 07 Oct 2025) EllapsedTime: 37.7 seconds RetCode: 0 Status: OK PackageFile: CNTools_1.65.0.tar.gz PackageFileSize: 958.8 KiB