Package: CNTools Version: 1.65.0 Command: rm -rf CNTools.buildbin-libdir && mkdir CNTools.buildbin-libdir && /Users/biocbuild/BBS/utils/build-universal.sh CNTools_1.65.0.tar.gz /Library/Frameworks/R.framework/Resources/bin/R CNTools.buildbin-libdir StartedAt: 2025-10-08 02:11:04 -0400 (Wed, 08 Oct 2025) EndedAt: 2025-10-08 02:11:34 -0400 (Wed, 08 Oct 2025) EllapsedTime: 30.1 seconds RetCode: 0 Status: OK PackageFile: CNTools_1.65.0.tgz PackageFileSize: 1.189 MiB