Package: CNORode Version: 1.51.0 Command: /home/biocbuild/R/R/bin/R CMD INSTALL CNORode StartedAt: 2025-10-02 20:35:24 -0000 (Thu, 02 Oct 2025) EndedAt: 2025-10-02 20:35:54 -0000 (Thu, 02 Oct 2025) EllapsedTime: 29.6 seconds RetCode: 0 Status: OK