Package: CNORode Version: 1.51.0 Command: /home/biocbuild/R/R/bin/R CMD build --keep-empty-dirs --no-resave-data CNORode StartedAt: 2025-10-02 22:54:07 -0000 (Thu, 02 Oct 2025) EndedAt: 2025-10-02 22:54:54 -0000 (Thu, 02 Oct 2025) EllapsedTime: 47.0 seconds RetCode: 0 Status: OK PackageFile: CNORode_1.51.0.tar.gz PackageFileSize: 407.3 KiB