Package: CNORode Version: 1.53.0 Command: /home/biocbuild/bbs-3.23-bioc/R/bin/R CMD INSTALL CNORode StartedAt: 2025-11-20 15:37:46 -0500 (Thu, 20 Nov 2025) EndedAt: 2025-11-20 15:38:04 -0500 (Thu, 20 Nov 2025) EllapsedTime: 17.4 seconds RetCode: 0 Status: OK