Package: CNORode Version: 1.53.0 Command: /home/biocbuild/bbs-3.23-bioc/R/bin/R CMD check --install=check:CNORode.install-out.txt --library=/home/biocbuild/bbs-3.23-bioc/R/site-library --timings CNORode_1.53.0.tar.gz StartedAt: 2025-11-20 22:13:22 -0500 (Thu, 20 Nov 2025) EndedAt: 2025-11-20 22:14:41 -0500 (Thu, 20 Nov 2025) EllapsedTime: 79.1 seconds RetCode: 0 Status: WARNINGS CheckDir: CNORode.Rcheck Warnings: 2